{"text_format":"1","workbook":"xlsx","n_sheets":8,"sheets":["Macierz źr do obl","Wagi ankiety śr","Wagi transform","SPOŁ W1 i W2","SPOŁ W3 i W4","INNE","SPOŁECZEŃSTWO","PODSUMOWANIE"],"not_rendered":{"charts":6,"images":0,"macros":0,"external_links":0,"defined_names":0,"comments":2,"pivot_tables":0},"unopened":[],"bounds":{"document_bytes":16777216,"sheet_cells":100000,"rows_first":2000,"rows_last":500,"rows_between":2000,"halvings":0,"cell_chars":16384,"cell_head_chars":4096},"cells_cut":0,"cells_raw":0,"read":"whole","date_system":"1900"}

{"sheet":"Macierz źr do obl","index":0,"n_rows":24,"n_cols":18,"rows_kept":24,"cut":false,"hidden":false,"merged":[[1,8,1,9],[1,10,1,12],[2,0,2,1]]}
[]
[null,"MACIERZ ŹRÓDŁOWA DO OBLICZEŃ",null,null,null,null,null,null,"ŹRÓDŁOWA",null,"FUNKCJA TRANSFORMUJĄCA",null,null,"MACIERZ TRANSFORMOWANA"]
["KRYTERIA",null,"WARIANT 1 \nPZPWM","WARIANT 2 \nWYKONAWCY","WARIANT 3 \nDK50 i A2","WARIANT 4 \nDK50 i 400kV","WARIANT 5 \nHISTORYCZNY","WER","MIN","MAX","WART.\nDOLNA","WART. GÓRNA","TYP","WARIANT 1 \nPZPWM","WARIANT 2 \nWYKONAWCY","WARIANT 3 \nDK50 i A2","WARIANT 4 \nDK50 i 400kV","WARIANT 5 \nHISTORYCZNY"]
[1,"Liczba budynków mieszkalnych w korytarzu 70 m [n]",7,3,4,27,117,"v",{"$f":"MIN(C4:G4)","v":3},{"$f":"MAX(C4:G4)","v":117},1,0,"Lin. malejąca",{"$f":"(C4-$I4)*($L4-$K4)/($J4-$I4)+$K4","v":0.96491228070175439},{"$f":"(D4-$I4)*($L4-$K4)/($J4-$I4)+$K4","v":1},0.99122807017543857,0.78947368421052633,0]
[2,"Liczba budynków mieszkalnych w pasie 35-100 m [n]",158,82,51,65,252,"v",{"$f":"MIN(C5:G5)","v":51},{"$f":"MAX(C5:G5)","v":252},1,0,"Lin. malejąca",0.46766169154228854,{"$f":"(D5-$I5)*($L5-$K5)/($J5-$I5)+$K5","v":0.845771144278607},{"$f":"(E5-$I5)*($L5-$K5)/($J5-$I5)+$K5","v":1},{"$f":"(F5-$I5)*($L5-$K5)/($J5-$I5)+$K5","v":0.93034825870646765},{"$f":"(G5-$I5)*($L5-$K5)/($J5-$I5)+$K5","v":0}]
[3,"Liczba budynków mieszkalnych w pasie 100-200 m [n]",415,354,307,354,559,"v",307,559,1,0,"Lin. malejąca",0.5714285714285714,0.81349206349206349,1,0.81349206349206349,0]
[4,"Liczba budynków mieszkalnych w pasie 200-400 m [n]",1285,1134,985,1099,1344,"v",985,1344,1,0,"Lin. malejąca",0.16434540389972141,0.58495821727019504,1,0.68245125348189417,0]
[5,"Liczba budynków użyteczności publicznej  0-400m [n]",50,37,34,42,110,"v",34,110,1,0,"Lin. malejąca",0.78947368421052633,0.96052631578947367,1,0.89473684210526316,0]
[6,"Zbliżenia do budynków wpisanych do rejestru zabytków 0-100m [n]",1,0,0,1,0,"v",0,1,1,0,"Lin. malejąca",0,1,1,0,1]
[7,"Długość przecięcia parków krajobrazowych [km]",0,0,0,0,3.74,"v",0,3.74,1,0,"Lin. malejąca",{"$f":"(C10-$I10)*($L10-$K10)/($J10-$I10)+$K10","v":1},1,1,1,0]
[8,"Długość przecięcia Obszarów Chronionego Krajobrazu [km]",38.869999999999997,27.94,32.82,32.18,30.47,"v",27.94,38.869999999999997,1,0,"Lin. malejąca",{"$f":"(C11-$I11)*($L11-$K11)/($J11-$I11)+$K11","v":0},{"$f":"(D11-$I11)*($L11-$K11)/($J11-$I11)+$K11","v":1},{"$f":"(E11-$I11)*($L11-$K11)/($J11-$I11)+$K11","v":0.55352241537053981},{"$f":"(F11-$I11)*($L11-$K11)/($J11-$I11)+$K11","v":0.61207685269899359},{"$f":"(G11-$I11)*($L11-$K11)/($J11-$I11)+$K11","v":0.76852698993595625}]
[9,"Długość przecięcia obszarów Natura 2000: SOO+OSO [km]",12.700000000000001,9.82,9.82,9.82,15.469999999999999,"v",9.82,15.469999999999999,1,0,"Lin. malejąca",{"$f":"(C12-$I12)*($L12-$K12)/($J12-$I12)+$K12","v":0.4902654867256635},{"$f":"(D12-$I12)*($L12-$K12)/($J12-$I12)+$K12","v":1},{"$f":"(E12-$I12)*($L12-$K12)/($J12-$I12)+$K12","v":1},{"$f":"(F12-$I12)*($L12-$K12)/($J12-$I12)+$K12","v":1},{"$f":"(G12-$I12)*($L12-$K12)/($J12-$I12)+$K12","v":0}]
[10,"Długość przecięcia korytarzy migracji ptaków [km]",20.22,17.59,17.59,17.59,20.37,"v",17.59,20.37,1,0,"Lin. malejąca",5.3956834532374875E-2,1,1,1,0]
[11,"Powierzchnia obszarów wodno-błotnych i bagiennych w korytarzu ≤ 800 m [ha]",101.36,83.070000000000007,139.68,143.79000000000002,253.31,"v",83.070000000000007,253.31,1,0,"Lin. malejąca",0.89256343984962405,1,0.66746945488721798,0.64332706766917291,0]
[12,"Długość całkowita linii [km]",131.38,115.45,134.09,138.52000000000001,100.92,"v",100.92,138.52000000000001,1,0,"Lin. malejąca",0.18989361702127694,0.61356382978723412,0.1178191489361704,0,1]
[13,"Długość linii przebiegających w korytarzach DK, ekspresowych i autostrad [km]",15.071,8.19,31.963999999999999,11.64,0,"v",0,31.963999999999999,0,1,"Lin. rosnąca",0.47149918658490803,0.25622575397321989,1,0.36415967963959456,0]
[14,"Bezpieczeństwo dostaw energii  [ekspercka w skali 0-1]",1,1,1,0,0,"v",0,1,0,1,"Lin. rosnąca",{"$f":"(C17-$I17)*($L17-$K17)/($J17-$I17)+$K17","v":1},{"$f":"(D17-$I17)*($L17-$K17)/($J17-$I17)+$K17","v":1},{"$f":"(E17-$I17)*($L17-$K17)/($J17-$I17)+$K17","v":1},{"$f":"(F17-$I17)*($L17-$K17)/($J17-$I17)+$K17","v":0},{"$f":"(G17-$I17)*($L17-$K17)/($J17-$I17)+$K17","v":0}]
[15,"Długość linii zgodna z obowiązującym PZPWM  [km]",131.38,55.63,10.19,1.76,7.4,"v",1.76,131.38,0,1,"Lin. rosnąca",1,0.41559944453016512,6.5036259836444982E-2,0,4.3511803733991668E-2]
[16,"Długość linii zgodna z dokumentami planistycznymi gmin [km] (studium lub MPZP)",24.62,15.53,13.92,12.97,27.28,"v",12.97,27.28,0,1,"Lin. rosnąca",0.81411600279524809,0.17889587700908446,6.6387141858839926E-2,0,1]
[17,"Pow. obszarów planowanych pod budownictwo mieszkaniowe w korytarzu 70 m [ha]",68.421300000000002,69.672300000000007,42.759,65.583399999999997,110.8546,"v",42.759,110.8546,1,0,"Lin. malejąca",{"$f":"(C20-$I20)*($L20-$K20)/($J20-$I20)+$K20","v":0.62314305182713714},{"$f":"(D20-$I20)*($L20-$K20)/($J20-$I20)+$K20","v":0.6047718207931202},{"$f":"(E20-$I20)*($L20-$K20)/($J20-$I20)+$K20","v":1},{"$f":"(F20-$I20)*($L20-$K20)/($J20-$I20)+$K20","v":0.66481828488184269},{"$f":"(G20-$I20)*($L20-$K20)/($J20-$I20)+$K20","v":0}]
[18,"Pow. obszarów planowanych pod budownictwo mieszkaniowe w korytarzu 35-100 m [ha]",205.63070000000002,189.57639999999998,143.88529999999997,198.61770000000001,215.26850000000002,"v",143.88529999999997,215.26850000000002,1,0,"Lin. malejąca",0.13501496150354697,0.35991801992625749,1,0.23325936634950506,0]
[19,"Pow. obszarów planowanych pod budownictwo mieszkaniowe w korytarzu 100-400 m [ha]",1358.2624000000001,1291.7915,1022.8101000000001,1351.8244,1300.6695,"v",1022.8101000000001,1358.2624000000001,1,0,"Lin. malejąca",0,0.1981530608077513,1,1.9191998385463704E-2,0.17168730099629703]
[20,"Szacunkowy koszt budowy linii [MPLN]",469,469,469,516,699,"v",469,699,1,0,"Lin. malejąca",1,1,1,0.79565217391304344,0]
[21,"Szacunkowy koszt inwestora związany z przebudową linii istniejących [MPLN]",0,0,0,2,110,"v",0,110,1,0,"Lin. malejąca",1,1,1,0.98181818181818181,0]

{"sheet":"Wagi ankiety śr","index":1,"n_rows":28,"n_cols":9,"rows_kept":28,"cut":false,"hidden":false,"merged":[]}
[null,"Wagi z ankiet uczestników GR","Średnia dla sąsiadów war.\nPZPWM\n(10 ankiet)","Średnia dla sąsiadów war.\n\"korytarzowych\"\n(10 ankiet)","Średnia dla pozostałych\n(Żaden z poprz.)\n(4 ankiety)","Średnia społeczeństwo\n(22 ankiety)"]
[null,"Wariant",1,2,3,123]
[1,"Kryteria środowiska społecznego",52.5,17,63.75,38.863636363636367]
[2,"Kryteria środowiska przyrodniczego",15.5,18,15,16.363636363636363]
[3,"Kryteria techniczne i funkcjonalne",9,11,2.5,8.8636363636363633]
[4,"Kryteria planistyczne",21,47,18.75,32.045454545454547]
[5,"Kryteria ekonomiczno-finansowe",2,7,0,3.8636363636363638]
[1,"Liczba budynków mieszkalnych w korytarzu 70 m [n]",8.9,3.6,10,6.7727272727272725]
[2,"Liczba budynków mieszkalnych w pasie 35-100 m [n]",9.8000000000000007,3.7,10,7.0454545454545459]
[3,"Liczba budynków mieszkalnych w pasie 100-200 m [n]",9.1,3.4,10,6.6363636363636367]
[4,"Liczba budynków mieszkalnych w pasie 200-400 m [n]",7.3,2.5,10,5.6363636363636367]
[5,"Liczba budynków użyteczności publicznej  0-400m [n]",5.2,2.9,7.5,4.2272727272727275]
[6,"Zbliżenia do budynków wpisanych do rejestru zabytków 0-100m [n]",1.3,2,5,1.9545454545454546]
[7,"Długość przecięcia parków krajobrazowych [km]",2,1.7,0,1.4090909090909092]
[8,"Długość przecięcia Obszarów Chronionego Krajobrazu [km]",4.3,8.5,0,5.0909090909090908]
[9,"Długość przecięcia obszarów Natura 2000: SOO+OSO [km]",3.1,1.7,2.5,2.1818181818181817]
[10,"Długość przecięcia korytarzy migracji ptaków [km]",6.9,8.5,7.5,7.7727272727272725,null,"SPOŁECZNE","SĄSIEDZI W1 i W2"]
[11,"Powierzchnia obszarów wodno-błotnych i bagiennych w korytarzu ≤ 800 m [ha]",7.8,8.3000000000000007,7.5,7.8636363636363633,null,"PRZYRODNICZE","SĄSIEDZI W3 i W4"]
[12,"Długość całkowita linii [km]",1.7,8.6999999999999993,0,4.4090909090909092,null,"TECH-FUN","POZOSTALI"]
[13,"Długość linii przebiegających w korytarzach DK, ekspresowych i autostrad [km]",7.6,1.6,7.5,5.0454545454545459,null,"PLANISTYCZNE","ŚREDNIO"]
[14,"Bezpieczeństwo dostaw energii  [ekspercka w skali 0-1]",1.4444444444444444,0.4,0,0.7142857142857143,null,"EKONOM-FIN"]
[15,"Długość linii zgodna z obowiązującym PZPWM  [km]",1.9,9,0,4.5]
[16,"Długość linii zgodna z dokumentami planistycznymi gmin [km] (studium lub MPZP)",5.8,3.5,5,4.4545454545454541]
[17,"Pow. obszarów planowanych pod budownictwo mieszkaniowe w korytarzu 70 m [ha]",8.4,3,10,6.0909090909090908]
[18,"Pow. obszarów planowanych pod budownictwo mieszkaniowe w korytarzu 35-100 m [ha]",8.3000000000000007,2.7,10,5.9090909090909092]
[19,"Pow. obszarów planowanych pod budownictwo mieszkaniowe w korytarzu 100-400 m [ha]",7.7,2.2999999999999998,10,5.5454545454545459]
[20,"Szacunkowy koszt budowy linii [MPLN]",1.1000000000000001,8.4,0,4.1363636363636367]
[21,"Szacunkowy koszt inwestora związany z przebudową linii istniejących [MPLN]",1.8,2.8,0,1.9090909090909092]

{"sheet":"Wagi transform","index":2,"n_rows":42,"n_cols":14,"rows_kept":42,"cut":false,"hidden":false,"merged":[[0,1,0,8],[1,1,1,2],[1,3,1,4],[1,5,1,6],[1,7,1,8]]}
[null,"SPOŁECZEŃSTWO"]
[null,"WARIANT 1 I 2",null,"WARIANT 3 I 4",null,"ŻADEN Z POPRZ.",null,"ŚREDNIO"]
["GRUPY KRYTERIÓW WYBORU WARIANTU LINII 400 kV KOZ-OLT","Wagi grup","Liczebność grup","Wagi grup","Liczebność grup","Wagi grup","Liczebność grup","Wagi grup","Liczebność grup"]
["Kryteria środowiska społecznego",{"$f":"'Wagi ankiety śr'!C3","v":52.5},8,{"$f":"'Wagi ankiety śr'!D3","v":17},8,{"$f":"'Wagi ankiety śr'!E3","v":63.75},8,{"$f":"'Wagi ankiety śr'!F3","v":38.863636363636367},8]
["Kryteria środowiska przyrodniczego",{"$f":"'Wagi ankiety śr'!C4","v":15.5},3,{"$f":"'Wagi ankiety śr'!D4","v":18},3,{"$f":"'Wagi ankiety śr'!E4","v":15},3,{"$f":"'Wagi ankiety śr'!F4","v":16.363636363636363},3]
["Kryteria techniczne i funkcjonalne",{"$f":"'Wagi ankiety śr'!C5","v":9},3,{"$f":"'Wagi ankiety śr'!D5","v":11},3,{"$f":"'Wagi ankiety śr'!E5","v":2.5},3,{"$f":"'Wagi ankiety śr'!F5","v":8.8636363636363633},3]
["Kryteria planistyczne",{"$f":"'Wagi ankiety śr'!C6","v":21},5,{"$f":"'Wagi ankiety śr'!D6","v":47},5,{"$f":"'Wagi ankiety śr'!E6","v":18.75},5,{"$f":"'Wagi ankiety śr'!F6","v":32.045454545454547},5]
["Kryteria ekonomiczno-finansowe",{"$f":"'Wagi ankiety śr'!C7","v":2},2,{"$f":"'Wagi ankiety śr'!D7","v":7},2,{"$f":"'Wagi ankiety śr'!E7","v":0},2,{"$f":"'Wagi ankiety śr'!F7","v":3.8636363636363638},2]
["Suma wag grup kryteriów (100)",{"$f":"SUM(B4:B8)","v":100},null,{"$f":"SUM(D4:D8)","v":100},null,{"$f":"SUM(F4:F8)","v":100},null,{"$f":"SUM(H4:H8)","v":100}]
[null,null,null,null,null,null,null,null,null,null,"WAGI TRANSFORMOWANE"]
["KRYTERIA WYBORU WARIANTU LINII 400 kV KOZ-OLT","Wagi kryteriów","Wagi transform.","Wagi kryteriów","Wagi transform.","Wagi kryteriów","Wagi transform.","Wagi kryteriów","Wagi transform.","NR KR.","W1 i W2","W3 i W4","INNE","ŚREDNIO"]
["Kryteria środowiska społecznego (0-10)                                                                  Waga grupy >",{"$f":"B4","v":52.5},null,{"$f":"D4","v":17},null,{"$f":"F4","v":63.75},null,{"$f":"H4","v":38.863636363636367},null,1,{"$f":"C13","v":9.7546972860125258},{"$f":"E13","v":2.1625441696113077},{"$f":"G13","v":12.142857142857142},{"$f":"I13","v":6.7886070553128004}]
[{"$f":"'Macierz źr do obl'!B4","v":"Liczba budynków mieszkalnych w korytarzu 70 m [n]"},{"$f":"'Wagi ankiety śr'!C8","v":8.9},{"$f":"B$12*B13/B$21","v":9.7546972860125258},{"$f":"'Wagi ankiety śr'!D8","v":3.6},{"$f":"D$12*D13/D$21","v":2.1625441696113077},{"$f":"'Wagi ankiety śr'!E8","v":10},{"$f":"F$12*F13/F$21","v":12.142857142857142},{"$f":"'Wagi ankiety śr'!F8","v":6.7727272727272725},{"$f":"H$12*H13/H$21","v":6.7886070553128004},2,{"$f":"C14","v":10.741127348643007},{"$f":"E14","v":2.2226148409893995},{"$f":"G14","v":12.142857142857142},7.0619737823723767]
[{"$f":"'Macierz źr do obl'!B5","v":"Liczba budynków mieszkalnych w pasie 35-100 m [n]"},{"$f":"'Wagi ankiety śr'!C9","v":9.8000000000000007},10.741127348643007,{"$f":"'Wagi ankiety śr'!D9","v":3.7},2.2226148409893995,{"$f":"'Wagi ankiety śr'!E9","v":10},12.142857142857142,{"$f":"'Wagi ankiety śr'!F9","v":7.0454545454545459},7.0619737823723767,3,9.9739039665970779,2.0424028268551235,12.142857142857142,6.6519236917830131]
[{"$f":"'Macierz źr do obl'!B6","v":"Liczba budynków mieszkalnych w pasie 100-200 m [n]"},{"$f":"'Wagi ankiety śr'!C10","v":9.1},9.9739039665970779,{"$f":"'Wagi ankiety śr'!D10","v":3.4},2.0424028268551235,{"$f":"'Wagi ankiety śr'!E10","v":10},12.142857142857142,{"$f":"'Wagi ankiety śr'!F10","v":6.6363636363636367},6.6519236917830131,4,8.0010438413361165,1.5017667844522968,12.142857142857142,5.6495790258979017]
[{"$f":"'Macierz źr do obl'!B7","v":"Liczba budynków mieszkalnych w pasie 200-400 m [n]"},{"$f":"'Wagi ankiety śr'!C11","v":7.3},8.0010438413361165,{"$f":"'Wagi ankiety śr'!D11","v":2.5},1.5017667844522968,{"$f":"'Wagi ankiety śr'!E11","v":10},12.142857142857142,{"$f":"'Wagi ankiety śr'!F11","v":5.6363636363636367},5.6495790258979017,5,5.6993736951983296,1.7420494699646643,9.1071428571428577,4.2371842694234259]
[{"$f":"'Macierz źr do obl'!B8","v":"Liczba budynków użyteczności publicznej  0-400m [n]"},{"$f":"'Wagi ankiety śr'!C12","v":5.2},5.6993736951983296,{"$f":"'Wagi ankiety śr'!D12","v":2.9},1.7420494699646643,{"$f":"'Wagi ankiety śr'!E12","v":7.5},9.1071428571428577,{"$f":"'Wagi ankiety śr'!F12","v":4.2272727272727275},4.2371842694234259,6,1.4248434237995824,1.2014134275618373,6.0714285714285712,1.9591282105936267]
[{"$f":"'Macierz źr do obl'!B9","v":"Zbliżenia do budynków wpisanych do rejestru zabytków 0-100m [n]"},{"$f":"'Wagi ankiety śr'!C13","v":1.3},1.4248434237995824,{"$f":"'Wagi ankiety śr'!D13","v":2},1.2014134275618373,{"$f":"'Wagi ankiety śr'!E13","v":5},6.0714285714285712,{"$f":"'Wagi ankiety śr'!F13","v":1.9545454545454546},1.9591282105936267,7,2.1920668058455117,1.0212014134275618,0,1.4123947564744754]
["Długość przecięcia parków krajobrazowych [km]",{"$f":"'Wagi ankiety śr'!C14","v":2},{"$f":"B$12*B19/B$21","v":2.1920668058455117},{"$f":"'Wagi ankiety śr'!D14","v":1.7},{"$f":"D$12*D19/D$21","v":1.0212014134275618},{"$f":"'Wagi ankiety śr'!E14","v":0},{"$f":"F$12*F19/F$21","v":0},{"$f":"'Wagi ankiety śr'!F14","v":1.4090909090909092},{"$f":"H$12*H19/H$21","v":1.4123947564744754},8,4.7129436325678498,5.1060070671378091,0,5.1028455717787491]
["Długość przecięcia Obszarów Chronionego Krajobrazu [km]",{"$f":"'Wagi ankiety śr'!C15","v":4.3},{"$f":"B$12*B20/B$21","v":4.7129436325678498},{"$f":"'Wagi ankiety śr'!D15","v":8.5},{"$f":"D$12*D20/D$21","v":5.1060070671378091},{"$f":"'Wagi ankiety śr'!E15","v":0},{"$f":"F$12*F20/F$21","v":0},{"$f":"'Wagi ankiety śr'!F15","v":5.0909090909090908},{"$f":"H$12*H20/H$21","v":5.1028455717787491},9,{"$f":"C23","v":2.6994382022471912},{"$f":"E23","v":1.654054054054054},{"$f":"G23","v":2.1428571428571428},{"$f":"I23","v":2.0037105751391464}]
["Suma wag kryteriów w grupie:",{"$f":"SUM(B13:B20)","v":47.9},52.5,28.3,17,52.5,63.75,38.772727272727273,38.863636363636374,10,{"$f":"C24","v":6.0084269662921344},{"$f":"E24","v":8.2702702702702702},{"$f":"G24","v":6.4285714285714288},{"$f":"I24","v":7.1382189239332101}]
["Kryteria środowiska przyrodniczego (0-10)                                                             Waga grupy >",{"$f":"B5","v":15.5},null,{"$f":"D5","v":18},null,{"$f":"F5","v":15},null,{"$f":"H5","v":16.363636363636363},null,11,{"$f":"C25","v":6.7921348314606735},{"$f":"E25","v":8.0756756756756758},{"$f":"G25","v":6.4285714285714288},{"$f":"I25","v":7.2217068645640072}]
[{"$f":"'Macierz źr do obl'!B12","v":"Długość przecięcia obszarów Natura 2000: SOO+OSO [km]"},{"$f":"'Wagi ankiety śr'!C16","v":3.1},{"$f":"B$22*B23/B$26","v":2.6994382022471912},{"$f":"'Wagi ankiety śr'!D16","v":1.7},{"$f":"D$22*D23/D$26","v":1.654054054054054},{"$f":"'Wagi ankiety śr'!E16","v":2.5},{"$f":"F$22*F23/F$26","v":2.1428571428571428},{"$f":"'Wagi ankiety śr'!F16","v":2.1818181818181817},{"$f":"H$22*H23/H$26","v":2.0037105751391464},12,{"$f":"C28","v":1.423991726990693},{"$f":"E28","v":8.94392523364486},{"$f":"G28","v":0},{"$f":"I28","v":3.8431731104144897}]
[{"$f":"'Macierz źr do obl'!B13","v":"Długość przecięcia korytarzy migracji ptaków [km]"},{"$f":"'Wagi ankiety śr'!C17","v":6.9},{"$f":"B$22*B24/B$26","v":6.0084269662921344},{"$f":"'Wagi ankiety śr'!D17","v":8.5},{"$f":"D$22*D24/D$26","v":8.2702702702702702},{"$f":"'Wagi ankiety śr'!E17","v":7.5},{"$f":"F$22*F24/F$26","v":6.4285714285714288},{"$f":"'Wagi ankiety śr'!F17","v":7.7727272727272725},{"$f":"H$22*H24/H$26","v":7.1382189239332101},13,{"$f":"C29","v":6.3660806618407442},{"$f":"E29","v":1.6448598130841123},{"$f":"G29","v":2.5},{"$f":"I29","v":4.3978578892371996}]
[{"$f":"'Macierz źr do obl'!B14","v":"Powierzchnia obszarów wodno-błotnych i bagiennych w korytarzu ≤ 800 m [ha]"},{"$f":"'Wagi ankiety śr'!C18","v":7.8},{"$f":"B$22*B25/B$26","v":6.7921348314606735},{"$f":"'Wagi ankiety śr'!D18","v":8.3000000000000007},{"$f":"D$22*D25/D$26","v":8.0756756756756758},{"$f":"'Wagi ankiety śr'!E18","v":7.5},{"$f":"F$22*F25/F$26","v":6.4285714285714288},{"$f":"'Wagi ankiety śr'!F18","v":7.8636363636363633},{"$f":"H$22*H25/H$26","v":7.2217068645640072},14,1.2099276111685626,0.41121495327102808,0,0.62260536398467436]
["Suma wag kryteriów w grupie:",{"$f":"SUM(B23:B25)","v":17.8},15.499999999999998,18.5,18,17.5,15,17.818181818181817,16.363636363636363,15,{"$f":"C33","v":1.2429906542056073},{"$f":"E33","v":20.634146341463413},{"$f":"G33","v":0},{"$f":"I33","v":5.4416809605488856}]
["Kryteria techniczne i funkcjonalne (0-10)                                                                Waga grupy >",{"$f":"B6","v":9},null,{"$f":"D6","v":11},null,{"$f":"F6","v":2.5},null,{"$f":"H6","v":8.8636363636363633},null,16,{"$f":"C34","v":3.7943925233644857},{"$f":"E34","v":8.0243902439024382},{"$f":"G34","v":2.6785714285714284},{"$f":"I34","v":5.3867144861999057}]
[{"$f":"'Macierz źr do obl'!B15","v":"Długość całkowita linii [km]"},{"$f":"'Wagi ankiety śr'!C19","v":1.7},{"$f":"B$27*B28/B$31","v":1.423991726990693},{"$f":"'Wagi ankiety śr'!D19","v":8.6999999999999993},{"$f":"D$27*D28/D$31","v":8.94392523364486},{"$f":"'Wagi ankiety śr'!E19","v":0},{"$f":"F$27*F28/F$31","v":0},{"$f":"'Wagi ankiety śr'!F19","v":4.4090909090909092},{"$f":"H$27*H28/H$31","v":3.8431731104144897},17,5.4953271028037385,6.8780487804878048,5.3571428571428568,7.3655075627631375]
[{"$f":"'Macierz źr do obl'!B16","v":"Długość linii przebiegających w korytarzach DK, ekspresowych i autostrad [km]"},{"$f":"'Wagi ankiety śr'!C20","v":7.6},{"$f":"B$27*B29/B$31","v":6.3660806618407442},{"$f":"'Wagi ankiety śr'!D20","v":1.6},{"$f":"D$27*D29/D$31","v":1.6448598130841123},{"$f":"'Wagi ankiety śr'!E20","v":7.5},{"$f":"F$27*F29/F$31","v":2.5},{"$f":"'Wagi ankiety śr'!F20","v":5.0454545454545459},{"$f":"H$27*H29/H$31","v":4.3978578892371996},18,5.4299065420560746,6.1902439024390246,5.3571428571428568,7.1456416653672239]
[{"$f":"'Macierz źr do obl'!B17","v":"Bezpieczeństwo dostaw energii  [ekspercka w skali 0-1]"},{"$f":"'Wagi ankiety śr'!C21","v":1.4444444444444444},{"$f":"B$27*B30/B$31","v":1.2099276111685626},{"$f":"'Wagi ankiety śr'!D21","v":0.4},{"$f":"D$27*D30/D$31","v":0.41121495327102808},{"$f":"'Wagi ankiety śr'!E21","v":0},{"$f":"F$27*F30/F$31","v":0},{"$f":"'Wagi ankiety śr'!F21","v":0.7142857142857143},{"$f":"H$27*H30/H$31","v":0.62260536398467436},19,5.0373831775700939,5.2731707317073164,5.3571428571428568,6.705909870575395]
["Suma wag kryteriów w grupie:",{"$f":"SUM(B28:B30)","v":10.744444444444444},9,10.7,11,7.5,2.5,10.168831168831169,8.8636363636363633,20,{"$f":"C40","v":0.75862068965517238},{"$f":"E40","v":5.2500000000000009},{"$f":"G40","v":0},{"$f":"I40","v":2.6435406698564594}]
["Kryteria planistyczne (0-10)                                                                                     Waga grupy >",{"$f":"B7","v":21},null,{"$f":"D7","v":47},null,{"$f":"F7","v":18.75},null,{"$f":"H7","v":32.045454545454547},null,21,{"$f":"C41","v":1.2413793103448274},{"$f":"E41","v":1.75},{"$f":"G41","v":0},{"$f":"I41","v":1.2200956937799043}]
[{"$f":"'Macierz źr do obl'!B18","v":"Długość linii zgodna z obowiązującym PZPWM  [km]"},{"$f":"'Wagi ankiety śr'!C22","v":1.9},{"$f":"B$32*B33/B$38","v":1.2429906542056073},{"$f":"'Wagi ankiety śr'!D22","v":9},{"$f":"D$32*D33/D$38","v":20.634146341463413},{"$f":"'Wagi ankiety śr'!E22","v":0},{"$f":"F$32*F33/F$38","v":0},{"$f":"'Wagi ankiety śr'!F22","v":4.5},{"$f":"H$32*H33/H$38","v":5.4416809605488856}]
[{"$f":"'Macierz źr do obl'!B19","v":"Długość linii zgodna z dokumentami planistycznymi gmin [km] (studium lub MPZP)"},{"$f":"'Wagi ankiety śr'!C23","v":5.8},{"$f":"B$32*B34/B$38","v":3.7943925233644857},{"$f":"'Wagi ankiety śr'!D23","v":3.5},{"$f":"D$32*D34/D$38","v":8.0243902439024382},{"$f":"'Wagi ankiety śr'!E23","v":5},{"$f":"F$32*F34/F$38","v":2.6785714285714284},{"$f":"'Wagi ankiety śr'!F23","v":4.4545454545454541},{"$f":"H$32*H34/H$38","v":5.3867144861999057}]
[{"$f":"'Macierz źr do obl'!B20","v":"Pow. obszarów planowanych pod budownictwo mieszkaniowe w korytarzu 70 m [ha]"},{"$f":"'Wagi ankiety śr'!C24","v":8.4},5.4953271028037385,{"$f":"'Wagi ankiety śr'!D24","v":3},6.8780487804878048,{"$f":"'Wagi ankiety śr'!E24","v":10},5.3571428571428568,{"$f":"'Wagi ankiety śr'!F24","v":6.0909090909090908},7.3655075627631375]
[{"$f":"'Macierz źr do obl'!B21","v":"Pow. obszarów planowanych pod budownictwo mieszkaniowe w korytarzu 35-100 m [ha]"},{"$f":"'Wagi ankiety śr'!C25","v":8.3000000000000007},5.4299065420560746,{"$f":"'Wagi ankiety śr'!D25","v":2.7},6.1902439024390246,{"$f":"'Wagi ankiety śr'!E25","v":10},5.3571428571428568,{"$f":"'Wagi ankiety śr'!F25","v":5.9090909090909092},7.1456416653672239]
[{"$f":"'Macierz źr do obl'!B22","v":"Pow. obszarów planowanych pod budownictwo mieszkaniowe w korytarzu 100-400 m [ha]"},{"$f":"'Wagi ankiety śr'!C26","v":7.7},5.0373831775700939,{"$f":"'Wagi ankiety śr'!D26","v":2.2999999999999998},5.2731707317073164,{"$f":"'Wagi ankiety śr'!E26","v":10},5.3571428571428568,{"$f":"'Wagi ankiety śr'!F26","v":5.5454545454545459},6.705909870575395]
["Suma wag kryteriów w grupie:",{"$f":"SUM(B33:B37)","v":32.1},21,20.5,46.999999999999993,35,18.75,26.5,32.045454545454547]
["Kryteria ekonomiczno-finansowe (0-10)                                                                 Waga grupy >",{"$f":"B8","v":2},null,{"$f":"D8","v":7},null,{"$f":"F8","v":0},null,{"$f":"H8","v":3.8636363636363638}]
[{"$f":"'Macierz źr do obl'!B23","v":"Szacunkowy koszt budowy linii [MPLN]"},{"$f":"'Wagi ankiety śr'!C27","v":1.1000000000000001},{"$f":"B$39*B40/B$42","v":0.75862068965517238},{"$f":"'Wagi ankiety śr'!D27","v":8.4},{"$f":"D$39*D40/D$42","v":5.2500000000000009},{"$f":"'Wagi ankiety śr'!E27","v":0},{"$f":"IF(F$42=0, 0, F$39*F40/F$42)","v":0},{"$f":"'Wagi ankiety śr'!F27","v":4.1363636363636367},{"$f":"H$39*H40/H$42","v":2.6435406698564594}]
[{"$f":"'Macierz źr do obl'!B24","v":"Szacunkowy koszt inwestora związany z przebudową linii istniejących [MPLN]"},{"$f":"'Wagi ankiety śr'!C28","v":1.8},{"$f":"B$39*B41/B$42","v":1.2413793103448274},{"$f":"'Wagi ankiety śr'!D28","v":2.8},{"$f":"D$39*D41/D$42","v":1.75},{"$f":"'Wagi ankiety śr'!E28","v":0},{"$f":"IF(F$42=0, 0, F$39*F41/F$42)","v":0},{"$f":"'Wagi ankiety śr'!F28","v":1.9090909090909092},{"$f":"H$39*H41/H$42","v":1.2200956937799043}]
["Suma wag kryteriów w grupie:",{"$f":"SUM(B40:B41)","v":2.9000000000000004},1.9999999999999998,11.2,7.0000000000000009,0,0,6.0454545454545459,3.8636363636363638]

{"sheet":"SPOŁ W1 i W2","index":3,"n_rows":25,"n_cols":7,"rows_kept":25,"cut":false,"hidden":false,"merged":[]}
[]
[]
[null,"KRYTERIA",{"$f":"'Macierz źr do obl'!C3","v":"WARIANT 1 \nPZPWM"},{"$f":"'Macierz źr do obl'!D3","v":"WARIANT 2 \nWYKONAWCY"},{"$f":"'Macierz źr do obl'!E3","v":"WARIANT 3 \nDK50 i A2"},{"$f":"'Macierz źr do obl'!F3","v":"WARIANT 4 \nDK50 i 400kV"},{"$f":"'Macierz źr do obl'!G3","v":"WARIANT 5 \nHISTORYCZNY"}]
[1,{"$f":"'Macierz źr do obl'!B4","v":"Liczba budynków mieszkalnych w korytarzu 70 m [n]"},{"$f":"'Macierz źr do obl'!N4*'Wagi transform'!$K12","v":9.4124272058015599},{"$f":"'Macierz źr do obl'!O4*'Wagi transform'!$K12","v":9.7546972860125258},{"$f":"'Macierz źr do obl'!P4*'Wagi transform'!$K12","v":9.6691297659597844},{"$f":"'Macierz źr do obl'!Q4*'Wagi transform'!$K12","v":7.7010768047467311},{"$f":"'Macierz źr do obl'!R4*'Wagi transform'!$K12","v":0}]
[2,{"$f":"'Macierz źr do obl'!B5","v":"Liczba budynków mieszkalnych w pasie 35-100 m [n]"},{"$f":"'Macierz źr do obl'!N5*'Wagi transform'!$K13","v":5.0232137849375249},{"$f":"'Macierz źr do obl'!O5*'Wagi transform'!$K13","v":9.0845355685040357},{"$f":"'Macierz źr do obl'!P5*'Wagi transform'!$K13","v":10.741127348643007},{"$f":"'Macierz źr do obl'!Q5*'Wagi transform'!$K13","v":9.9929891253544394},{"$f":"'Macierz źr do obl'!R5*'Wagi transform'!$K13","v":0}]
[3,{"$f":"'Macierz źr do obl'!B6","v":"Liczba budynków mieszkalnych w pasie 100-200 m [n]"},{"$f":"'Macierz źr do obl'!N6*'Wagi transform'!$K14","v":5.6993736951983296},{"$f":"'Macierz źr do obl'!O6*'Wagi transform'!$K14","v":8.1136917188587336},{"$f":"'Macierz źr do obl'!P6*'Wagi transform'!$K14","v":9.9739039665970779},{"$f":"'Macierz źr do obl'!Q6*'Wagi transform'!$K14","v":8.1136917188587336},{"$f":"'Macierz źr do obl'!R6*'Wagi transform'!$K14","v":0}]
[4,{"$f":"'Macierz źr do obl'!B7","v":"Liczba budynków mieszkalnych w pasie 200-400 m [n]"},{"$f":"'Macierz źr do obl'!N7*'Wagi transform'!$K15","v":1.3149347817237627},{"$f":"'Macierz źr do obl'!O7*'Wagi transform'!$K15","v":4.6802763417286481},{"$f":"'Macierz źr do obl'!P7*'Wagi transform'!$K15","v":8.0010438413361165},{"$f":"'Macierz źr do obl'!Q7*'Wagi transform'!$K15","v":5.460322398683422},{"$f":"'Macierz źr do obl'!R7*'Wagi transform'!$K15","v":0}]
[5,{"$f":"'Macierz źr do obl'!B8","v":"Liczba budynków użyteczności publicznej  0-400m [n]"},{"$f":"'Macierz źr do obl'!N8*'Wagi transform'!$K16","v":4.4995055488407862},{"$f":"'Macierz źr do obl'!O8*'Wagi transform'!$K16","v":5.4743984177562899},{"$f":"'Macierz źr do obl'!P8*'Wagi transform'!$K16","v":5.6993736951983296},{"$f":"'Macierz źr do obl'!Q8*'Wagi transform'!$K16","v":5.0994396220195579},{"$f":"'Macierz źr do obl'!R8*'Wagi transform'!$K16","v":0}]
[6,{"$f":"'Macierz źr do obl'!B9","v":"Zbliżenia do budynków wpisanych do rejestru zabytków 0-100m [n]"},{"$f":"'Macierz źr do obl'!N9*'Wagi transform'!$K17","v":0},{"$f":"'Macierz źr do obl'!O9*'Wagi transform'!$K17","v":1.4248434237995824},{"$f":"'Macierz źr do obl'!P9*'Wagi transform'!$K17","v":1.4248434237995824},{"$f":"'Macierz źr do obl'!Q9*'Wagi transform'!$K17","v":0},{"$f":"'Macierz źr do obl'!R9*'Wagi transform'!$K17","v":1.4248434237995824}]
[7,{"$f":"'Macierz źr do obl'!B10","v":"Długość przecięcia parków krajobrazowych [km]"},{"$f":"'Macierz źr do obl'!N10*'Wagi transform'!$K18","v":2.1920668058455117},{"$f":"'Macierz źr do obl'!O10*'Wagi transform'!$K18","v":2.1920668058455117},{"$f":"'Macierz źr do obl'!P10*'Wagi transform'!$K18","v":2.1920668058455117},{"$f":"'Macierz źr do obl'!Q10*'Wagi transform'!$K18","v":2.1920668058455117},{"$f":"'Macierz źr do obl'!R10*'Wagi transform'!$K18","v":0}]
[8,{"$f":"'Macierz źr do obl'!B11","v":"Długość przecięcia Obszarów Chronionego Krajobrazu [km]"},{"$f":"'Macierz źr do obl'!N11*'Wagi transform'!$K19","v":0},{"$f":"'Macierz źr do obl'!O11*'Wagi transform'!$K19","v":4.7129436325678498},{"$f":"'Macierz źr do obl'!P11*'Wagi transform'!$K19","v":2.6087199430041621},{"$f":"'Macierz źr do obl'!Q11*'Wagi transform'!$K19","v":2.8846837055698917},{"$f":"'Macierz źr do obl'!R11*'Wagi transform'!$K19","v":3.6220243836752011}]
[9,{"$f":"'Macierz źr do obl'!B12","v":"Długość przecięcia obszarów Natura 2000: SOO+OSO [km]"},{"$f":"'Macierz źr do obl'!N12*'Wagi transform'!$K20","v":1.3234413841105692},{"$f":"'Macierz źr do obl'!O12*'Wagi transform'!$K20","v":2.6994382022471912},{"$f":"'Macierz źr do obl'!P12*'Wagi transform'!$K20","v":2.6994382022471912},{"$f":"'Macierz źr do obl'!Q12*'Wagi transform'!$K20","v":2.6994382022471912},{"$f":"'Macierz źr do obl'!R12*'Wagi transform'!$K20","v":0}]
[10,{"$f":"'Macierz źr do obl'!B13","v":"Długość przecięcia korytarzy migracji ptaków [km]"},{"$f":"'Macierz źr do obl'!N13*'Wagi transform'!$K21","v":0.32419569962008382},{"$f":"'Macierz źr do obl'!O13*'Wagi transform'!$K21","v":6.0084269662921344},{"$f":"'Macierz źr do obl'!P13*'Wagi transform'!$K21","v":6.0084269662921344},{"$f":"'Macierz źr do obl'!Q13*'Wagi transform'!$K21","v":6.0084269662921344},{"$f":"'Macierz źr do obl'!R13*'Wagi transform'!$K21","v":0}]
[11,{"$f":"'Macierz źr do obl'!B14","v":"Powierzchnia obszarów wodno-błotnych i bagiennych w korytarzu ≤ 800 m [ha]"},{"$f":"'Macierz źr do obl'!N14*'Wagi transform'!$K22","v":6.0624112290909853},{"$f":"'Macierz źr do obl'!O14*'Wagi transform'!$K22","v":6.7921348314606735},{"$f":"'Macierz źr do obl'!P14*'Wagi transform'!$K22","v":4.5335425334755417},{"$f":"'Macierz źr do obl'!Q14*'Wagi transform'!$K22","v":4.3695641843372472},{"$f":"'Macierz źr do obl'!R14*'Wagi transform'!$K22","v":0}]
[12,{"$f":"'Macierz źr do obl'!B15","v":"Długość całkowita linii [km]"},{"$f":"'Macierz źr do obl'!N15*'Wagi transform'!$K23","v":0.27040693964663742},{"$f":"'Macierz źr do obl'!O15*'Wagi transform'!$K23","v":0.87370981759774713},{"$f":"'Macierz źr do obl'!P15*'Wagi transform'!$K23","v":0.16777349336619096},{"$f":"'Macierz źr do obl'!Q15*'Wagi transform'!$K23","v":0},{"$f":"'Macierz źr do obl'!R15*'Wagi transform'!$K23","v":1.423991726990693}]
[13,{"$f":"'Macierz źr do obl'!B16","v":"Długość linii przebiegających w korytarzach DK, ekspresowych i autostrad [km]"},{"$f":"'Macierz źr do obl'!N16*'Wagi transform'!$K24","v":3.0016018537918239},{"$f":"'Macierz źr do obl'!O16*'Wagi transform'!$K24","v":1.6311538174344793},{"$f":"'Macierz źr do obl'!P16*'Wagi transform'!$K24","v":6.3660806618407442},{"$f":"'Macierz źr do obl'!Q16*'Wagi transform'!$K24","v":2.3182698943757436},{"$f":"'Macierz źr do obl'!R16*'Wagi transform'!$K24","v":0}]
[14,{"$f":"'Macierz źr do obl'!B17","v":"Bezpieczeństwo dostaw energii  [ekspercka w skali 0-1]"},{"$f":"'Macierz źr do obl'!N17*'Wagi transform'!$K25","v":1.2099276111685626},{"$f":"'Macierz źr do obl'!O17*'Wagi transform'!$K25","v":1.2099276111685626},{"$f":"'Macierz źr do obl'!P17*'Wagi transform'!$K25","v":1.2099276111685626},{"$f":"'Macierz źr do obl'!Q17*'Wagi transform'!$K25","v":0},{"$f":"'Macierz źr do obl'!R17*'Wagi transform'!$K25","v":0}]
[15,{"$f":"'Macierz źr do obl'!B18","v":"Długość linii zgodna z obowiązującym PZPWM  [km]"},{"$f":"'Macierz źr do obl'!N18*'Wagi transform'!$K26","v":1.2429906542056073},{"$f":"'Macierz źr do obl'!O18*'Wagi transform'!$K26","v":0.51658622544403698},{"$f":"'Macierz źr do obl'!P18*'Wagi transform'!$K26","v":8.0839463161188604E-2},{"$f":"'Macierz źr do obl'!Q18*'Wagi transform'!$K26","v":0},{"$f":"'Macierz źr do obl'!R18*'Wagi transform'!$K26","v":5.4084765388980285E-2}]
[16,{"$f":"'Macierz źr do obl'!B19","v":"Długość linii zgodna z dokumentami planistycznymi gmin [km] (studium lub MPZP)"},{"$f":"'Macierz źr do obl'!N19*'Wagi transform'!$K27","v":3.0890756741576699},{"$f":"'Macierz źr do obl'!O19*'Wagi transform'!$K27","v":0.67880117818400265},{"$f":"'Macierz źr do obl'!P19*'Wagi transform'!$K27","v":0.25189887471671968},{"$f":"'Macierz źr do obl'!Q19*'Wagi transform'!$K27","v":0},{"$f":"'Macierz źr do obl'!R19*'Wagi transform'!$K27","v":3.7943925233644857}]
[17,{"$f":"'Macierz źr do obl'!B20","v":"Pow. obszarów planowanych pod budownictwo mieszkaniowe w korytarzu 70 m [ha]"},{"$f":"'Macierz źr do obl'!N20*'Wagi transform'!$K28","v":3.4243749016295015},{"$f":"'Macierz źr do obl'!O20*'Wagi transform'!$K28","v":3.3234189778163987},{"$f":"'Macierz źr do obl'!P20*'Wagi transform'!$K28","v":5.4953271028037385},{"$f":"'Macierz źr do obl'!Q20*'Wagi transform'!$K28","v":3.6533939393506869},{"$f":"'Macierz źr do obl'!R20*'Wagi transform'!$K28","v":0}]
[18,{"$f":"'Macierz źr do obl'!B21","v":"Pow. obszarów planowanych pod budownictwo mieszkaniowe w korytarzu 35-100 m [ha]"},{"$f":"'Macierz źr do obl'!N21*'Wagi transform'!$K29","v":0.73311862274355877},{"$f":"'Macierz źr do obl'!O21*'Wagi transform'!$K29","v":1.9543212110014543},{"$f":"'Macierz źr do obl'!P21*'Wagi transform'!$K29","v":5.4299065420560746},{"$f":"'Macierz źr do obl'!Q21*'Wagi transform'!$K29","v":1.2665765593370322},{"$f":"'Macierz źr do obl'!R21*'Wagi transform'!$K29","v":0}]
[19,{"$f":"'Macierz źr do obl'!B22","v":"Pow. obszarów planowanych pod budownictwo mieszkaniowe w korytarzu 100-400 m [ha]"},{"$f":"'Macierz źr do obl'!N22*'Wagi transform'!$K30","v":0},{"$f":"'Macierz źr do obl'!O22*'Wagi transform'!$K30","v":0.99817289509699025},{"$f":"'Macierz źr do obl'!P22*'Wagi transform'!$K30","v":5.0373831775700939},{"$f":"'Macierz źr do obl'!Q22*'Wagi transform'!$K30","v":9.6677449810887273E-2},{"$f":"'Macierz źr do obl'!R22*'Wagi transform'!$K30","v":0.86485472184115986}]
[20,{"$f":"'Macierz źr do obl'!B23","v":"Szacunkowy koszt budowy linii [MPLN]"},{"$f":"'Macierz źr do obl'!N23*'Wagi transform'!$K31","v":0.75862068965517238},{"$f":"'Macierz źr do obl'!O23*'Wagi transform'!$K31","v":0.75862068965517238},{"$f":"'Macierz źr do obl'!P23*'Wagi transform'!$K31","v":0.75862068965517238},{"$f":"'Macierz źr do obl'!Q23*'Wagi transform'!$K31","v":0.60359820089955019},{"$f":"'Macierz źr do obl'!R23*'Wagi transform'!$K31","v":0}]
[21,{"$f":"'Macierz źr do obl'!B24","v":"Szacunkowy koszt inwestora związany z przebudową linii istniejących [MPLN]"},{"$f":"'Macierz źr do obl'!N24*'Wagi transform'!$K32","v":1.2413793103448274},{"$f":"'Macierz źr do obl'!O24*'Wagi transform'!$K32","v":1.2413793103448274},{"$f":"'Macierz źr do obl'!P24*'Wagi transform'!$K32","v":1.2413793103448274},{"$f":"'Macierz źr do obl'!Q24*'Wagi transform'!$K32","v":1.2188087774294669},{"$f":"'Macierz źr do obl'!R24*'Wagi transform'!$K32","v":0}]
[null,"SUMA WAŻONA",{"$f":"SUM(C4:C24)","v":50.82306639251248},{"$f":"SUM(D4:D24)","v":74.123544928816855},{"$f":"SUM(E4:E24)","v":89.59075341908175},{"$f":"SUM(F4:F24)","v":63.679024355158241},{"$f":"SUM(G4:G24)","v":11.184191545060104}]

{"sheet":"SPOŁ W3 i W4","index":4,"n_rows":25,"n_cols":7,"rows_kept":25,"cut":false,"hidden":false,"merged":[]}
[]
[]
[null,"KRYTERIA",{"$f":"'Macierz źr do obl'!C3","v":"WARIANT 1 \nPZPWM"},{"$f":"'Macierz źr do obl'!D3","v":"WARIANT 2 \nWYKONAWCY"},{"$f":"'Macierz źr do obl'!E3","v":"WARIANT 3 \nDK50 i A2"},{"$f":"'Macierz źr do obl'!F3","v":"WARIANT 4 \nDK50 i 400kV"},{"$f":"'Macierz źr do obl'!G3","v":"WARIANT 5 \nHISTORYCZNY"}]
[1,{"$f":"'Macierz źr do obl'!B4","v":"Liczba budynków mieszkalnych w korytarzu 70 m [n]"},{"$f":"'Macierz źr do obl'!N4*'Wagi transform'!$L12","v":2.0866654268179285},{"$f":"'Macierz źr do obl'!O4*'Wagi transform'!$L12","v":2.1625441696113077},{"$f":"'Macierz źr do obl'!P4*'Wagi transform'!$L12","v":2.1435744839129627},{"$f":"'Macierz źr do obl'!Q4*'Wagi transform'!$L12","v":1.7072717128510324},{"$f":"'Macierz źr do obl'!R4*'Wagi transform'!$L12","v":0}]
[2,{"$f":"'Macierz źr do obl'!B5","v":"Liczba budynków mieszkalnych w pasie 35-100 m [n]"},{"$f":"'Macierz źr do obl'!N5*'Wagi transform'!$L13","v":1.0394318161840972},{"$f":"'Macierz źr do obl'!O5*'Wagi transform'!$L13","v":1.8798234973542185},{"$f":"'Macierz źr do obl'!P5*'Wagi transform'!$L13","v":2.2226148409893995},{"$f":"'Macierz źr do obl'!Q5*'Wagi transform'!$L13","v":2.0678058470896405},{"$f":"'Macierz źr do obl'!R5*'Wagi transform'!$L13","v":0}]
[3,{"$f":"'Macierz źr do obl'!B6","v":"Liczba budynków mieszkalnych w pasie 100-200 m [n]"},{"$f":"'Macierz źr do obl'!N6*'Wagi transform'!$L14","v":1.1670873296314992},{"$f":"'Macierz źr do obl'!O6*'Wagi transform'!$L14","v":1.6614784901003981},{"$f":"'Macierz źr do obl'!P6*'Wagi transform'!$L14","v":2.0424028268551235},{"$f":"'Macierz źr do obl'!Q6*'Wagi transform'!$L14","v":1.6614784901003981},{"$f":"'Macierz źr do obl'!R6*'Wagi transform'!$L14","v":0}]
[4,{"$f":"'Macierz źr do obl'!B7","v":"Liczba budynków mieszkalnych w pasie 200-400 m [n]"},{"$f":"'Macierz źr do obl'!N7*'Wagi transform'!$L15","v":0.24680846875399859},{"$f":"'Macierz źr do obl'!O7*'Wagi transform'!$L15","v":0.8784708209888088},{"$f":"'Macierz źr do obl'!P7*'Wagi transform'!$L15","v":1.5017667844522968},{"$f":"'Macierz źr do obl'!Q7*'Wagi transform'!$L15","v":1.0248826244869436},{"$f":"'Macierz źr do obl'!R7*'Wagi transform'!$L15","v":0}]
[5,{"$f":"'Macierz źr do obl'!B8","v":"Liczba budynków użyteczności publicznej  0-400m [n]"},{"$f":"'Macierz źr do obl'!N8*'Wagi transform'!$L16","v":1.3753022131299981},{"$f":"'Macierz źr do obl'!O8*'Wagi transform'!$L16","v":1.6732843593081643},{"$f":"'Macierz źr do obl'!P8*'Wagi transform'!$L16","v":1.7420494699646643},{"$f":"'Macierz źr do obl'!Q8*'Wagi transform'!$L16","v":1.5586758415473312},{"$f":"'Macierz źr do obl'!R8*'Wagi transform'!$L16","v":0}]
[6,{"$f":"'Macierz źr do obl'!B9","v":"Zbliżenia do budynków wpisanych do rejestru zabytków 0-100m [n]"},{"$f":"'Macierz źr do obl'!N9*'Wagi transform'!$L17","v":0},{"$f":"'Macierz źr do obl'!O9*'Wagi transform'!$L17","v":1.2014134275618373},{"$f":"'Macierz źr do obl'!P9*'Wagi transform'!$L17","v":1.2014134275618373},{"$f":"'Macierz źr do obl'!Q9*'Wagi transform'!$L17","v":0},{"$f":"'Macierz źr do obl'!R9*'Wagi transform'!$L17","v":1.2014134275618373}]
[7,{"$f":"'Macierz źr do obl'!B10","v":"Długość przecięcia parków krajobrazowych [km]"},{"$f":"'Macierz źr do obl'!N10*'Wagi transform'!$L18","v":1.0212014134275618},{"$f":"'Macierz źr do obl'!O10*'Wagi transform'!$L18","v":1.0212014134275618},{"$f":"'Macierz źr do obl'!P10*'Wagi transform'!$L18","v":1.0212014134275618},{"$f":"'Macierz źr do obl'!Q10*'Wagi transform'!$L18","v":1.0212014134275618},{"$f":"'Macierz źr do obl'!R10*'Wagi transform'!$L18","v":0}]
[8,{"$f":"'Macierz źr do obl'!B11","v":"Długość przecięcia Obszarów Chronionego Krajobrazu [km]"},{"$f":"'Macierz źr do obl'!N11*'Wagi transform'!$L19","v":0},{"$f":"'Macierz źr do obl'!O11*'Wagi transform'!$L19","v":5.1060070671378091},{"$f":"'Macierz źr do obl'!P11*'Wagi transform'!$L19","v":2.8262893647011662},{"$f":"'Macierz źr do obl'!Q11*'Wagi transform'!$L19","v":3.1252687355125288},{"$f":"'Macierz źr do obl'!R11*'Wagi transform'!$L19","v":3.9241042418991405}]
[9,{"$f":"'Macierz źr do obl'!B12","v":"Długość przecięcia obszarów Natura 2000: SOO+OSO [km]"},{"$f":"'Macierz źr do obl'!N12*'Wagi transform'!$L20","v":0.81092561588136769},{"$f":"'Macierz źr do obl'!O12*'Wagi transform'!$L20","v":1.654054054054054},{"$f":"'Macierz źr do obl'!P12*'Wagi transform'!$L20","v":1.654054054054054},{"$f":"'Macierz źr do obl'!Q12*'Wagi transform'!$L20","v":1.654054054054054},{"$f":"'Macierz źr do obl'!R12*'Wagi transform'!$L20","v":0}]
[10,{"$f":"'Macierz źr do obl'!B13","v":"Długość przecięcia korytarzy migracji ptaków [km]"},{"$f":"'Macierz źr do obl'!N13*'Wagi transform'!$L21","v":0.4462376045109922},{"$f":"'Macierz źr do obl'!O13*'Wagi transform'!$L21","v":8.2702702702702702},{"$f":"'Macierz źr do obl'!P13*'Wagi transform'!$L21","v":8.2702702702702702},{"$f":"'Macierz źr do obl'!Q13*'Wagi transform'!$L21","v":8.2702702702702702},{"$f":"'Macierz źr do obl'!R13*'Wagi transform'!$L21","v":0}]
[11,{"$f":"'Macierz źr do obl'!B14","v":"Powierzchnia obszarów wodno-błotnych i bagiennych w korytarzu ≤ 800 m [ha]"},{"$f":"'Macierz źr do obl'!N14*'Wagi transform'!$L22","v":7.2080528601910183},{"$f":"'Macierz źr do obl'!O14*'Wagi transform'!$L22","v":8.0756756756756758},{"$f":"'Macierz źr do obl'!P14*'Wagi transform'!$L22","v":5.3902668410892094},{"$f":"'Macierz źr do obl'!Q14*'Wagi transform'!$L22","v":5.1953007518796994},{"$f":"'Macierz źr do obl'!R14*'Wagi transform'!$L22","v":0}]
[12,{"$f":"'Macierz źr do obl'!B15","v":"Długość całkowita linii [km]"},{"$f":"'Macierz źr do obl'!N15*'Wagi transform'!$L23","v":1.6983943129846919},{"$f":"'Macierz źr do obl'!O15*'Wagi transform'!$L23","v":5.4876690196858231},{"$f":"'Macierz źr do obl'!P15*'Wagi transform'!$L23","v":1.0537656591767763},{"$f":"'Macierz źr do obl'!Q15*'Wagi transform'!$L23","v":0},{"$f":"'Macierz źr do obl'!R15*'Wagi transform'!$L23","v":8.94392523364486}]
[13,{"$f":"'Macierz źr do obl'!B16","v":"Długość linii przebiegających w korytarzach DK, ekspresowych i autostrad [km]"},{"$f":"'Macierz źr do obl'!N16*'Wagi transform'!$L24","v":0.77555006391536285},{"$f":"'Macierz źr do obl'!O16*'Wagi transform'!$L24","v":0.4214554457877262},{"$f":"'Macierz źr do obl'!P16*'Wagi transform'!$L24","v":1.6448598130841123},{"$f":"'Macierz źr do obl'!Q16*'Wagi transform'!$L24","v":0.59899162258475369},{"$f":"'Macierz źr do obl'!R16*'Wagi transform'!$L24","v":0}]
[14,{"$f":"'Macierz źr do obl'!B17","v":"Bezpieczeństwo dostaw energii  [ekspercka w skali 0-1]"},{"$f":"'Macierz źr do obl'!N17*'Wagi transform'!$L25","v":0.41121495327102808},{"$f":"'Macierz źr do obl'!O17*'Wagi transform'!$L25","v":0.41121495327102808},{"$f":"'Macierz źr do obl'!P17*'Wagi transform'!$L25","v":0.41121495327102808},{"$f":"'Macierz źr do obl'!Q17*'Wagi transform'!$L25","v":0},{"$f":"'Macierz źr do obl'!R17*'Wagi transform'!$L25","v":0}]
[15,{"$f":"'Macierz źr do obl'!B18","v":"Długość linii zgodna z obowiązującym PZPWM  [km]"},{"$f":"'Macierz źr do obl'!N18*'Wagi transform'!$L26","v":20.634146341463413},{"$f":"'Macierz źr do obl'!O18*'Wagi transform'!$L26","v":8.5755397578663342},{"$f":"'Macierz źr do obl'!P18*'Wagi transform'!$L26","v":1.3419677029666452},{"$f":"'Macierz źr do obl'!Q18*'Wagi transform'!$L26","v":0},{"$f":"'Macierz źr do obl'!R18*'Wagi transform'!$L26","v":0.89782892582821827}]
[16,{"$f":"'Macierz źr do obl'!B19","v":"Długość linii zgodna z dokumentami planistycznymi gmin [km] (studium lub MPZP)"},{"$f":"'Macierz źr do obl'!N19*'Wagi transform'!$L27","v":6.5327845102350386},{"$f":"'Macierz źr do obl'!O19*'Wagi transform'!$L27","v":1.4355303301460678},{"$f":"'Macierz źr do obl'!P19*'Wagi transform'!$L27","v":0.53271633345264224},{"$f":"'Macierz źr do obl'!Q19*'Wagi transform'!$L27","v":0},{"$f":"'Macierz źr do obl'!R19*'Wagi transform'!$L27","v":8.0243902439024382}]
[17,{"$f":"'Macierz źr do obl'!B20","v":"Pow. obszarów planowanych pod budownictwo mieszkaniowe w korytarzu 70 m [ha]"},{"$f":"'Macierz źr do obl'!N20*'Wagi transform'!$L28","v":4.2860083076890891},{"$f":"'Macierz źr do obl'!O20*'Wagi transform'!$L28","v":4.1596500844795097},{"$f":"'Macierz źr do obl'!P20*'Wagi transform'!$L28","v":6.8780487804878048},{"$f":"'Macierz źr do obl'!Q20*'Wagi transform'!$L28","v":4.5726525935775522},{"$f":"'Macierz źr do obl'!R20*'Wagi transform'!$L28","v":0}]
[18,{"$f":"'Macierz źr do obl'!B21","v":"Pow. obszarów planowanych pod budownictwo mieszkaniowe w korytarzu 35-100 m [ha]"},{"$f":"'Macierz źr do obl'!N21*'Wagi transform'!$L29","v":0.83577554218537131},{"$f":"'Macierz źr do obl'!O21*'Wagi transform'!$L29","v":2.227980328226443},{"$f":"'Macierz źr do obl'!P21*'Wagi transform'!$L29","v":6.1902439024390246},{"$f":"'Macierz źr do obl'!Q21*'Wagi transform'!$L29","v":1.4439323702318143},{"$f":"'Macierz źr do obl'!R21*'Wagi transform'!$L29","v":0}]
[19,{"$f":"'Macierz źr do obl'!B22","v":"Pow. obszarów planowanych pod budownictwo mieszkaniowe w korytarzu 100-400 m [ha]"},{"$f":"'Macierz źr do obl'!N22*'Wagi transform'!$L30","v":0},{"$f":"'Macierz źr do obl'!O22*'Wagi transform'!$L30","v":1.0448949206496543},{"$f":"'Macierz źr do obl'!P22*'Wagi transform'!$L30","v":5.2731707317073164},{"$f":"'Macierz źr do obl'!Q22*'Wagi transform'!$L30","v":0.10120268416920128},{"$f":"'Macierz źr do obl'!R22*'Wagi transform'!$L30","v":0.90533645061949786}]
[20,{"$f":"'Macierz źr do obl'!B23","v":"Szacunkowy koszt budowy linii [MPLN]"},{"$f":"'Macierz źr do obl'!N23*'Wagi transform'!$L31","v":5.2500000000000009},{"$f":"'Macierz źr do obl'!O23*'Wagi transform'!$L31","v":5.2500000000000009},{"$f":"'Macierz źr do obl'!P23*'Wagi transform'!$L31","v":5.2500000000000009},{"$f":"'Macierz źr do obl'!Q23*'Wagi transform'!$L31","v":4.1771739130434788},{"$f":"'Macierz źr do obl'!R23*'Wagi transform'!$L31","v":0}]
[21,{"$f":"'Macierz źr do obl'!B24","v":"Szacunkowy koszt inwestora związany z przebudową linii istniejących [MPLN]"},{"$f":"'Macierz źr do obl'!N24*'Wagi transform'!$L32","v":1.75},{"$f":"'Macierz źr do obl'!O24*'Wagi transform'!$L32","v":1.75},{"$f":"'Macierz źr do obl'!P24*'Wagi transform'!$L32","v":1.75},{"$f":"'Macierz źr do obl'!Q24*'Wagi transform'!$L32","v":1.7181818181818183},{"$f":"'Macierz źr do obl'!R24*'Wagi transform'!$L32","v":0}]
[null,"SUMA WAŻONA",{"$f":"SUM(C4:C24)","v":57.575586780272459},{"$f":"SUM(D4:D24)","v":64.348158085602705},{"$f":"SUM(E4:E24)","v":60.34189165386389},{"$f":"SUM(F4:F24)","v":39.898344743008082},{"$f":"SUM(G4:G24)","v":23.896998523455991}]

{"sheet":"INNE","index":5,"n_rows":25,"n_cols":7,"rows_kept":25,"cut":false,"hidden":false,"merged":[]}
[]
[]
[null,"KRYTERIA",{"$f":"'Macierz źr do obl'!C3","v":"WARIANT 1 \nPZPWM"},{"$f":"'Macierz źr do obl'!D3","v":"WARIANT 2 \nWYKONAWCY"},{"$f":"'Macierz źr do obl'!E3","v":"WARIANT 3 \nDK50 i A2"},{"$f":"'Macierz źr do obl'!F3","v":"WARIANT 4 \nDK50 i 400kV"},{"$f":"'Macierz źr do obl'!G3","v":"WARIANT 5 \nHISTORYCZNY"}]
[1,{"$f":"'Macierz źr do obl'!B4","v":"Liczba budynków mieszkalnych w korytarzu 70 m [n]"},{"$f":"'Macierz źr do obl'!N4*'Wagi transform'!$M12","v":11.716791979949875},{"$f":"'Macierz źr do obl'!O4*'Wagi transform'!$M12","v":12.142857142857142},{"$f":"'Macierz źr do obl'!P4*'Wagi transform'!$M12","v":12.036340852130325},{"$f":"'Macierz źr do obl'!Q4*'Wagi transform'!$M12","v":9.5864661654135332},{"$f":"'Macierz źr do obl'!R4*'Wagi transform'!$M12","v":0}]
[2,{"$f":"'Macierz źr do obl'!B5","v":"Liczba budynków mieszkalnych w pasie 35-100 m [n]"},{"$f":"'Macierz źr do obl'!N5*'Wagi transform'!$M13","v":5.6787491115849322},{"$f":"'Macierz źr do obl'!O5*'Wagi transform'!$M13","v":10.270078180525942},{"$f":"'Macierz źr do obl'!P5*'Wagi transform'!$M13","v":12.142857142857142},{"$f":"'Macierz źr do obl'!Q5*'Wagi transform'!$M13","v":11.297085998578535},{"$f":"'Macierz źr do obl'!R5*'Wagi transform'!$M13","v":0}]
[3,{"$f":"'Macierz źr do obl'!B6","v":"Liczba budynków mieszkalnych w pasie 100-200 m [n]"},{"$f":"'Macierz źr do obl'!N6*'Wagi transform'!$M14","v":6.9387755102040813},{"$f":"'Macierz źr do obl'!O6*'Wagi transform'!$M14","v":9.8781179138321988},{"$f":"'Macierz źr do obl'!P6*'Wagi transform'!$M14","v":12.142857142857142},{"$f":"'Macierz źr do obl'!Q6*'Wagi transform'!$M14","v":9.8781179138321988},{"$f":"'Macierz źr do obl'!R6*'Wagi transform'!$M14","v":0}]
[4,{"$f":"'Macierz źr do obl'!B7","v":"Liczba budynków mieszkalnych w pasie 200-400 m [n]"},{"$f":"'Macierz źr do obl'!N7*'Wagi transform'!$M15","v":1.9956227616394742},{"$f":"'Macierz źr do obl'!O7*'Wagi transform'!$M15","v":7.1030640668523679},{"$f":"'Macierz źr do obl'!P7*'Wagi transform'!$M15","v":12.142857142857142},{"$f":"'Macierz źr do obl'!Q7*'Wagi transform'!$M15","v":8.2869080779944291},{"$f":"'Macierz źr do obl'!R7*'Wagi transform'!$M15","v":0}]
[5,{"$f":"'Macierz źr do obl'!B8","v":"Liczba budynków użyteczności publicznej  0-400m [n]"},{"$f":"'Macierz źr do obl'!N8*'Wagi transform'!$M16","v":7.1898496240601508},{"$f":"'Macierz źr do obl'!O8*'Wagi transform'!$M16","v":8.7476503759398501},{"$f":"'Macierz źr do obl'!P8*'Wagi transform'!$M16","v":9.1071428571428577},{"$f":"'Macierz źr do obl'!Q8*'Wagi transform'!$M16","v":8.1484962406015047},{"$f":"'Macierz źr do obl'!R8*'Wagi transform'!$M16","v":0}]
[6,{"$f":"'Macierz źr do obl'!B9","v":"Zbliżenia do budynków wpisanych do rejestru zabytków 0-100m [n]"},{"$f":"'Macierz źr do obl'!N9*'Wagi transform'!$M17","v":0},{"$f":"'Macierz źr do obl'!O9*'Wagi transform'!$M17","v":6.0714285714285712},{"$f":"'Macierz źr do obl'!P9*'Wagi transform'!$M17","v":6.0714285714285712},{"$f":"'Macierz źr do obl'!Q9*'Wagi transform'!$M17","v":0},{"$f":"'Macierz źr do obl'!R9*'Wagi transform'!$M17","v":6.0714285714285712}]
[7,{"$f":"'Macierz źr do obl'!B10","v":"Długość przecięcia parków krajobrazowych [km]"},{"$f":"'Macierz źr do obl'!N10*'Wagi transform'!$M18","v":0},{"$f":"'Macierz źr do obl'!O10*'Wagi transform'!$M18","v":0},{"$f":"'Macierz źr do obl'!P10*'Wagi transform'!$M18","v":0},{"$f":"'Macierz źr do obl'!Q10*'Wagi transform'!$M18","v":0},{"$f":"'Macierz źr do obl'!R10*'Wagi transform'!$M18","v":0}]
[8,{"$f":"'Macierz źr do obl'!B11","v":"Długość przecięcia Obszarów Chronionego Krajobrazu [km]"},{"$f":"'Macierz źr do obl'!N11*'Wagi transform'!$M19","v":0},{"$f":"'Macierz źr do obl'!O11*'Wagi transform'!$M19","v":0},{"$f":"'Macierz źr do obl'!P11*'Wagi transform'!$M19","v":0},{"$f":"'Macierz źr do obl'!Q11*'Wagi transform'!$M19","v":0},{"$f":"'Macierz źr do obl'!R11*'Wagi transform'!$M19","v":0}]
[9,{"$f":"'Macierz źr do obl'!B12","v":"Długość przecięcia obszarów Natura 2000: SOO+OSO [km]"},{"$f":"'Macierz źr do obl'!N12*'Wagi transform'!$M20","v":1.0505689001264218},{"$f":"'Macierz źr do obl'!O12*'Wagi transform'!$M20","v":2.1428571428571428},{"$f":"'Macierz źr do obl'!P12*'Wagi transform'!$M20","v":2.1428571428571428},{"$f":"'Macierz źr do obl'!Q12*'Wagi transform'!$M20","v":2.1428571428571428},{"$f":"'Macierz źr do obl'!R12*'Wagi transform'!$M20","v":0}]
[10,{"$f":"'Macierz źr do obl'!B13","v":"Długość przecięcia korytarzy migracji ptaków [km]"},{"$f":"'Macierz źr do obl'!N13*'Wagi transform'!$M21","v":0.34686536485098135},{"$f":"'Macierz źr do obl'!O13*'Wagi transform'!$M21","v":6.4285714285714288},{"$f":"'Macierz źr do obl'!P13*'Wagi transform'!$M21","v":6.4285714285714288},{"$f":"'Macierz źr do obl'!Q13*'Wagi transform'!$M21","v":6.4285714285714288},{"$f":"'Macierz źr do obl'!R13*'Wagi transform'!$M21","v":0}]
[11,{"$f":"'Macierz źr do obl'!B14","v":"Powierzchnia obszarów wodno-błotnych i bagiennych w korytarzu ≤ 800 m [ha]"},{"$f":"'Macierz źr do obl'!N14*'Wagi transform'!$M22","v":5.737907827604726},{"$f":"'Macierz źr do obl'!O14*'Wagi transform'!$M22","v":6.4285714285714288},{"$f":"'Macierz źr do obl'!P14*'Wagi transform'!$M22","v":4.2908750671321156},{"$f":"'Macierz źr do obl'!Q14*'Wagi transform'!$M22","v":4.1356740064446829},{"$f":"'Macierz źr do obl'!R14*'Wagi transform'!$M22","v":0}]
[12,{"$f":"'Macierz źr do obl'!B15","v":"Długość całkowita linii [km]"},{"$f":"'Macierz źr do obl'!N15*'Wagi transform'!$M23","v":0},{"$f":"'Macierz źr do obl'!O15*'Wagi transform'!$M23","v":0},{"$f":"'Macierz źr do obl'!P15*'Wagi transform'!$M23","v":0},{"$f":"'Macierz źr do obl'!Q15*'Wagi transform'!$M23","v":0},{"$f":"'Macierz źr do obl'!R15*'Wagi transform'!$M23","v":0}]
[13,{"$f":"'Macierz źr do obl'!B16","v":"Długość linii przebiegających w korytarzach DK, ekspresowych i autostrad [km]"},{"$f":"'Macierz źr do obl'!N16*'Wagi transform'!$M24","v":1.17874796646227},{"$f":"'Macierz źr do obl'!O16*'Wagi transform'!$M24","v":0.64056438493304979},{"$f":"'Macierz źr do obl'!P16*'Wagi transform'!$M24","v":2.5},{"$f":"'Macierz źr do obl'!Q16*'Wagi transform'!$M24","v":0.91039919909898637},{"$f":"'Macierz źr do obl'!R16*'Wagi transform'!$M24","v":0}]
[14,{"$f":"'Macierz źr do obl'!B17","v":"Bezpieczeństwo dostaw energii  [ekspercka w skali 0-1]"},{"$f":"'Macierz źr do obl'!N17*'Wagi transform'!$M25","v":0},{"$f":"'Macierz źr do obl'!O17*'Wagi transform'!$M25","v":0},{"$f":"'Macierz źr do obl'!P17*'Wagi transform'!$M25","v":0},{"$f":"'Macierz źr do obl'!Q17*'Wagi transform'!$M25","v":0},{"$f":"'Macierz źr do obl'!R17*'Wagi transform'!$M25","v":0}]
[15,{"$f":"'Macierz źr do obl'!B18","v":"Długość linii zgodna z obowiązującym PZPWM  [km]"},{"$f":"'Macierz źr do obl'!N18*'Wagi transform'!$M26","v":0},{"$f":"'Macierz źr do obl'!O18*'Wagi transform'!$M26","v":0},{"$f":"'Macierz źr do obl'!P18*'Wagi transform'!$M26","v":0},{"$f":"'Macierz źr do obl'!Q18*'Wagi transform'!$M26","v":0},{"$f":"'Macierz źr do obl'!R18*'Wagi transform'!$M26","v":0}]
[16,{"$f":"'Macierz źr do obl'!B19","v":"Długość linii zgodna z dokumentami planistycznymi gmin [km] (studium lub MPZP)"},{"$f":"'Macierz źr do obl'!N19*'Wagi transform'!$M27","v":2.1806678646301285},{"$f":"'Macierz źr do obl'!O19*'Wagi transform'!$M27","v":0.4791853848457619},{"$f":"'Macierz źr do obl'!P19*'Wagi transform'!$M27","v":0.17782270140760692},{"$f":"'Macierz źr do obl'!Q19*'Wagi transform'!$M27","v":0},{"$f":"'Macierz źr do obl'!R19*'Wagi transform'!$M27","v":2.6785714285714284}]
[17,{"$f":"'Macierz źr do obl'!B20","v":"Pow. obszarów planowanych pod budownictwo mieszkaniowe w korytarzu 70 m [ha]"},{"$f":"'Macierz źr do obl'!N20*'Wagi transform'!$M28","v":3.3382663490739488},{"$f":"'Macierz źr do obl'!O20*'Wagi transform'!$M28","v":3.2398490399631439},{"$f":"'Macierz źr do obl'!P20*'Wagi transform'!$M28","v":5.3571428571428568},{"$f":"'Macierz źr do obl'!Q20*'Wagi transform'!$M28","v":3.5615265261527282},{"$f":"'Macierz źr do obl'!R20*'Wagi transform'!$M28","v":0}]
[18,{"$f":"'Macierz źr do obl'!B21","v":"Pow. obszarów planowanych pod budownictwo mieszkaniowe w korytarzu 35-100 m [ha]"},{"$f":"'Macierz źr do obl'!N21*'Wagi transform'!$M29","v":0.72329443662614445},{"$f":"'Macierz źr do obl'!O21*'Wagi transform'!$M29","v":1.9281322496049507},{"$f":"'Macierz źr do obl'!P21*'Wagi transform'!$M29","v":5.3571428571428568},{"$f":"'Macierz źr do obl'!Q21*'Wagi transform'!$M29","v":1.2496037483009199},{"$f":"'Macierz źr do obl'!R21*'Wagi transform'!$M29","v":0}]
[19,{"$f":"'Macierz źr do obl'!B22","v":"Pow. obszarów planowanych pod budownictwo mieszkaniowe w korytarzu 100-400 m [ha]"},{"$f":"'Macierz źr do obl'!N22*'Wagi transform'!$M30","v":0},{"$f":"'Macierz źr do obl'!O22*'Wagi transform'!$M30","v":1.061534254327239},{"$f":"'Macierz źr do obl'!P22*'Wagi transform'!$M30","v":5.3571428571428568},{"$f":"'Macierz źr do obl'!Q22*'Wagi transform'!$M30","v":0.10281427706498412},{"$f":"'Macierz źr do obl'!R22*'Wagi transform'!$M30","v":0.91975339819444835}]
[20,{"$f":"'Macierz źr do obl'!B23","v":"Szacunkowy koszt budowy linii [MPLN]"},{"$f":"'Macierz źr do obl'!N23*'Wagi transform'!$M31","v":0},{"$f":"'Macierz źr do obl'!O23*'Wagi transform'!$M31","v":0},{"$f":"'Macierz źr do obl'!P23*'Wagi transform'!$M31","v":0},{"$f":"'Macierz źr do obl'!Q23*'Wagi transform'!$M31","v":0},{"$f":"'Macierz źr do obl'!R23*'Wagi transform'!$M31","v":0}]
[21,{"$f":"'Macierz źr do obl'!B24","v":"Szacunkowy koszt inwestora związany z przebudową linii istniejących [MPLN]"},{"$f":"'Macierz źr do obl'!N24*'Wagi transform'!$M32","v":0},{"$f":"'Macierz źr do obl'!O24*'Wagi transform'!$M32","v":0},{"$f":"'Macierz źr do obl'!P24*'Wagi transform'!$M32","v":0},{"$f":"'Macierz źr do obl'!Q24*'Wagi transform'!$M32","v":0},{"$f":"'Macierz źr do obl'!R24*'Wagi transform'!$M32","v":0}]
[null,"SUMA WAŻONA",{"$f":"SUM(C4:C24)","v":48.076107696813132},{"$f":"SUM(D4:D24)","v":76.562461565110226},{"$f":"SUM(E4:E24)","v":95.255038620670064},{"$f":"SUM(F4:F24)","v":65.728520724911064},{"$f":"SUM(G4:G24)","v":9.6697533981944481}]

{"sheet":"SPOŁECZEŃSTWO","index":6,"n_rows":25,"n_cols":8,"rows_kept":25,"cut":false,"hidden":false,"merged":[]}
[]
[]
[null,"KRYTERIA",{"$f":"'Macierz źr do obl'!C3","v":"WARIANT 1 \nPZPWM"},{"$f":"'Macierz źr do obl'!D3","v":"WARIANT 2 \nWYKONAWCY"},{"$f":"'Macierz źr do obl'!E3","v":"WARIANT 3 \nDK50 i A2"},{"$f":"'Macierz źr do obl'!F3","v":"WARIANT 4 \nDK50 i 400kV"},{"$f":"'Macierz źr do obl'!G3","v":"WARIANT 5 \nHISTORYCZNY"}]
[1,{"$f":"'Macierz źr do obl'!B4","v":"Liczba budynków mieszkalnych w korytarzu 70 m [n]"},{"$f":"'Macierz źr do obl'!N4*'Wagi transform'!$N12","v":6.550410316529895},{"$f":"'Macierz źr do obl'!O4*'Wagi transform'!$N12","v":6.7886070553128004},{"$f":"'Macierz źr do obl'!P4*'Wagi transform'!$N12","v":6.7290578706170736},{"$f":"'Macierz źr do obl'!Q4*'Wagi transform'!$N12","v":5.3594266226153691},{"$f":"'Macierz źr do obl'!R4*'Wagi transform'!$N12","v":0},"BM 70 M"]
[2,{"$f":"'Macierz źr do obl'!B5","v":"Liczba budynków mieszkalnych w pasie 35-100 m [n]"},{"$f":"'Macierz źr do obl'!N5*'Wagi transform'!$N13","v":3.3026146046915592},{"$f":"'Macierz źr do obl'!O5*'Wagi transform'!$N13","v":5.9728136467826074},{"$f":"'Macierz źr do obl'!P5*'Wagi transform'!$N13","v":7.0619737823723767},{"$f":"'Macierz źr do obl'!Q5*'Wagi transform'!$N13","v":6.5700950114608681},{"$f":"'Macierz źr do obl'!R5*'Wagi transform'!$N13","v":0},"BM 100 M"]
[3,{"$f":"'Macierz źr do obl'!B6","v":"Liczba budynków mieszkalnych w pasie 100-200 m [n]"},{"$f":"'Macierz źr do obl'!N6*'Wagi transform'!$N14","v":3.8010992524474361},{"$f":"'Macierz źr do obl'!O6*'Wagi transform'!$N14","v":5.4112871302203081},{"$f":"'Macierz źr do obl'!P6*'Wagi transform'!$N14","v":6.6519236917830131},{"$f":"'Macierz źr do obl'!Q6*'Wagi transform'!$N14","v":5.4112871302203081},{"$f":"'Macierz źr do obl'!R6*'Wagi transform'!$N14","v":0},"BM 200 M"]
[4,{"$f":"'Macierz źr do obl'!B7","v":"Liczba budynków mieszkalnych w pasie 200-400 m [n]"},{"$f":"'Macierz źr do obl'!N7*'Wagi transform'!$N15","v":0.92848234687458531},{"$f":"'Macierz źr do obl'!O7*'Wagi transform'!$N15","v":3.3047676753163215},{"$f":"'Macierz źr do obl'!P7*'Wagi transform'!$N15","v":5.6495790258979017},{"$f":"'Macierz źr do obl'!Q7*'Wagi transform'!$N15","v":3.8555622878690419},{"$f":"'Macierz źr do obl'!R7*'Wagi transform'!$N15","v":0},"BM 400 M"]
[5,{"$f":"'Macierz źr do obl'!B8","v":"Liczba budynków użyteczności publicznej  0-400m [n]"},{"$f":"'Macierz źr do obl'!N8*'Wagi transform'!$N16","v":3.3451454758605994},{"$f":"'Macierz źr do obl'!O8*'Wagi transform'!$N16","v":4.0699269956303956},{"$f":"'Macierz źr do obl'!P8*'Wagi transform'!$N16","v":4.2371842694234259},{"$f":"'Macierz źr do obl'!Q8*'Wagi transform'!$N16","v":3.7911648726420126},{"$f":"'Macierz źr do obl'!R8*'Wagi transform'!$N16","v":0},"BUP 400 M"]
[6,{"$f":"'Macierz źr do obl'!B9","v":"Zbliżenia do budynków wpisanych do rejestru zabytków 0-100m [n]"},{"$f":"'Macierz źr do obl'!N9*'Wagi transform'!$N17","v":0},{"$f":"'Macierz źr do obl'!O9*'Wagi transform'!$N17","v":1.9591282105936267},{"$f":"'Macierz źr do obl'!P9*'Wagi transform'!$N17","v":1.9591282105936267},{"$f":"'Macierz źr do obl'!Q9*'Wagi transform'!$N17","v":0},{"$f":"'Macierz źr do obl'!R9*'Wagi transform'!$N17","v":1.9591282105936267},"ZABYTKI"]
[7,{"$f":"'Macierz źr do obl'!B10","v":"Długość przecięcia parków krajobrazowych [km]"},{"$f":"'Macierz źr do obl'!N10*'Wagi transform'!$N18","v":1.4123947564744754},{"$f":"'Macierz źr do obl'!O10*'Wagi transform'!$N18","v":1.4123947564744754},{"$f":"'Macierz źr do obl'!P10*'Wagi transform'!$N18","v":1.4123947564744754},{"$f":"'Macierz źr do obl'!Q10*'Wagi transform'!$N18","v":1.4123947564744754},{"$f":"'Macierz źr do obl'!R10*'Wagi transform'!$N18","v":0},"PARKI KRAJ"]
[8,{"$f":"'Macierz źr do obl'!B11","v":"Długość przecięcia Obszarów Chronionego Krajobrazu [km]"},{"$f":"'Macierz źr do obl'!N11*'Wagi transform'!$N19","v":0},{"$f":"'Macierz źr do obl'!O11*'Wagi transform'!$N19","v":5.1028455717787491},{"$f":"'Macierz źr do obl'!P11*'Wagi transform'!$N19","v":2.8245394061538365},{"$f":"'Macierz źr do obl'!Q11*'Wagi transform'!$N19","v":3.1233336573833332},{"$f":"'Macierz źr do obl'!R11*'Wagi transform'!$N19","v":3.9216745473871457},"OCHK"]
[9,{"$f":"'Macierz źr do obl'!B12","v":"Długość przecięcia obszarów Natura 2000: SOO+OSO [km]"},{"$f":"'Macierz źr do obl'!N12*'Wagi transform'!$N20","v":0.98235014037795276},{"$f":"'Macierz źr do obl'!O12*'Wagi transform'!$N20","v":2.0037105751391464},{"$f":"'Macierz źr do obl'!P12*'Wagi transform'!$N20","v":2.0037105751391464},{"$f":"'Macierz źr do obl'!Q12*'Wagi transform'!$N20","v":2.0037105751391464},{"$f":"'Macierz źr do obl'!R12*'Wagi transform'!$N20","v":0},"N 2000"]
[10,{"$f":"'Macierz źr do obl'!B13","v":"Długość przecięcia korytarzy migracji ptaków [km]"},{"$f":"'Macierz źr do obl'!N13*'Wagi transform'!$N21","v":0.38515569733453126},{"$f":"'Macierz źr do obl'!O13*'Wagi transform'!$N21","v":7.1382189239332101},{"$f":"'Macierz źr do obl'!P13*'Wagi transform'!$N21","v":7.1382189239332101},{"$f":"'Macierz źr do obl'!Q13*'Wagi transform'!$N21","v":7.1382189239332101},{"$f":"'Macierz źr do obl'!R13*'Wagi transform'!$N21","v":0},"PTAKI"]
[11,{"$f":"'Macierz źr do obl'!B14","v":"Powierzchnia obszarów wodno-błotnych i bagiennych w korytarzu ≤ 800 m [ha]"},{"$f":"'Macierz źr do obl'!N14*'Wagi transform'!$N22","v":6.4458315206208932},{"$f":"'Macierz źr do obl'!O14*'Wagi transform'!$N22","v":7.2217068645640072},{"$f":"'Macierz źr do obl'!P14*'Wagi transform'!$N22","v":4.8202687442458183},{"$f":"'Macierz źr do obl'!Q14*'Wagi transform'!$N22","v":4.6459195007462997},{"$f":"'Macierz źr do obl'!R14*'Wagi transform'!$N22","v":0},"O W-BŁOT"]
[12,{"$f":"'Macierz źr do obl'!B15","v":"Długość całkowita linii [km]"},{"$f":"'Macierz źr do obl'!N15*'Wagi transform'!$N23","v":0.72979404277551874},{"$f":"'Macierz źr do obl'!O15*'Wagi transform'!$N23","v":2.3580320121612313},{"$f":"'Macierz źr do obl'!P15*'Wagi transform'!$N23","v":0.45279938508341006},{"$f":"'Macierz źr do obl'!Q15*'Wagi transform'!$N23","v":0},{"$f":"'Macierz źr do obl'!R15*'Wagi transform'!$N23","v":3.8431731104144897},"DŁ CAŁK"]
[13,{"$f":"'Macierz źr do obl'!B16","v":"Długość linii przebiegających w korytarzach DK, ekspresowych i autostrad [km]"},{"$f":"'Macierz źr do obl'!N16*'Wagi transform'!$N24","v":2.0735864174913603},{"$f":"'Macierz źr do obl'!O16*'Wagi transform'!$N24","v":1.1268444535368749},{"$f":"'Macierz źr do obl'!P16*'Wagi transform'!$N24","v":4.3978578892371996},{"$f":"'Macierz źr do obl'!Q16*'Wagi transform'!$N24","v":1.6015225200450822},{"$f":"'Macierz źr do obl'!R16*'Wagi transform'!$N24","v":0},"DŁ W KOR DK-A"]
[14,{"$f":"'Macierz źr do obl'!B17","v":"Bezpieczeństwo dostaw energii  [ekspercka w skali 0-1]"},{"$f":"'Macierz źr do obl'!N17*'Wagi transform'!$N25","v":0.62260536398467436},{"$f":"'Macierz źr do obl'!O17*'Wagi transform'!$N25","v":0.62260536398467436},{"$f":"'Macierz źr do obl'!P17*'Wagi transform'!$N25","v":0.62260536398467436},{"$f":"'Macierz źr do obl'!Q17*'Wagi transform'!$N25","v":0},{"$f":"'Macierz źr do obl'!R17*'Wagi transform'!$N25","v":0},"BEZP DE"]
[15,{"$f":"'Macierz źr do obl'!B18","v":"Długość linii zgodna z obowiązującym PZPWM  [km]"},{"$f":"'Macierz źr do obl'!N18*'Wagi transform'!$N26","v":5.4416809605488856},{"$f":"'Macierz źr do obl'!O18*'Wagi transform'!$N26","v":2.261559584514492},{"$f":"'Macierz źr do obl'!P18*'Wagi transform'!$N26","v":0.35390657689729282},{"$f":"'Macierz źr do obl'!Q18*'Wagi transform'!$N26","v":0},{"$f":"'Macierz źr do obl'!R18*'Wagi transform'!$N26","v":0.23677735393840238},"DŁ ZG Z PZPW"]
[16,{"$f":"'Macierz źr do obl'!B19","v":"Długość linii zgodna z dokumentami planistycznymi gmin [km] (studium lub MPZP)"},{"$f":"'Macierz źr do obl'!N19*'Wagi transform'!$N27","v":4.385410465704326},{"$f":"'Macierz źr do obl'!O19*'Wagi transform'!$N27","v":0.96366101220627198},{"$f":"'Macierz źr do obl'!P19*'Wagi transform'!$N27","v":0.35760857874842117},{"$f":"'Macierz źr do obl'!Q19*'Wagi transform'!$N27","v":0},{"$f":"'Macierz źr do obl'!R19*'Wagi transform'!$N27","v":5.3867144861999057},"DŁ ZG Z MPZP"]
[17,{"$f":"'Macierz źr do obl'!B20","v":"Pow. obszarów planowanych pod budownictwo mieszkaniowe w korytarzu 70 m [ha]"},{"$f":"'Macierz źr do obl'!N20*'Wagi transform'!$N28","v":4.5897648609160804},{"$f":"'Macierz źr do obl'!O20*'Wagi transform'!$N28","v":4.4544514197977598},{"$f":"'Macierz źr do obl'!P20*'Wagi transform'!$N28","v":7.3655075627631375},{"$f":"'Macierz źr do obl'!Q20*'Wagi transform'!$N28","v":4.8967241051604304},{"$f":"'Macierz źr do obl'!R20*'Wagi transform'!$N28","v":0},"BPL 70 M"]
[18,{"$f":"'Macierz źr do obl'!B21","v":"Pow. obszarów planowanych pod budownictwo mieszkaniowe w korytarzu 35-100 m [ha]"},{"$f":"'Macierz źr do obl'!N21*'Wagi transform'!$N29","v":0.96476853436769705},{"$f":"'Macierz źr do obl'!O21*'Wagi transform'!$N29","v":2.5718451993015363},{"$f":"'Macierz źr do obl'!P21*'Wagi transform'!$N29","v":7.1456416653672239},{"$f":"'Macierz źr do obl'!Q21*'Wagi transform'!$N29","v":1.6667878470241808},{"$f":"'Macierz źr do obl'!R21*'Wagi transform'!$N29","v":0},"BPL 100 M"]
[19,{"$f":"'Macierz źr do obl'!B22","v":"Pow. obszarów planowanych pod budownictwo mieszkaniowe w korytarzu 100-400 m [ha]"},{"$f":"'Macierz źr do obl'!N22*'Wagi transform'!$N30","v":0},{"$f":"'Macierz źr do obl'!O22*'Wagi transform'!$N30","v":1.328796566355426},{"$f":"'Macierz źr do obl'!P22*'Wagi transform'!$N30","v":6.705909870575395},{"$f":"'Macierz źr do obl'!Q22*'Wagi transform'!$N30","v":0.1286998114091481},{"$f":"'Macierz źr do obl'!R22*'Wagi transform'!$N30","v":1.1513195664035172},"BPL 400 M"]
[20,{"$f":"'Macierz źr do obl'!B23","v":"Szacunkowy koszt budowy linii [MPLN]"},{"$f":"'Macierz źr do obl'!N23*'Wagi transform'!$N31","v":2.6435406698564594},{"$f":"'Macierz źr do obl'!O23*'Wagi transform'!$N31","v":2.6435406698564594},{"$f":"'Macierz źr do obl'!P23*'Wagi transform'!$N31","v":2.6435406698564594},{"$f":"'Macierz źr do obl'!Q23*'Wagi transform'!$N31","v":2.1033388807988351},{"$f":"'Macierz źr do obl'!R23*'Wagi transform'!$N31","v":0},"KOSZT CAŁK"]
[21,{"$f":"'Macierz źr do obl'!B24","v":"Szacunkowy koszt inwestora związany z przebudową linii istniejących [MPLN]"},{"$f":"'Macierz źr do obl'!N24*'Wagi transform'!$N32","v":1.2200956937799043},{"$f":"'Macierz źr do obl'!O24*'Wagi transform'!$N32","v":1.2200956937799043},{"$f":"'Macierz źr do obl'!P24*'Wagi transform'!$N32","v":1.2200956937799043},{"$f":"'Macierz źr do obl'!Q24*'Wagi transform'!$N32","v":1.1979121357111788},{"$f":"'Macierz źr do obl'!R24*'Wagi transform'!$N32","v":0},"K PRZEBUD"]
[null,"SUMA WAŻONA",{"$f":"SUM(C4:C24)","v":49.824731120636834},{"$f":"SUM(D4:D24)","v":69.93683938124029},{"$f":"SUM(E4:E24)","v":81.753452512927041},{"$f":"SUM(F4:F24)","v":54.906098638632926},{"$f":"SUM(G4:G24)","v":16.49878727493709}]

{"sheet":"PODSUMOWANIE","index":7,"n_rows":40,"n_cols":9,"rows_kept":40,"cut":false,"hidden":false,"merged":[[34,0,34,1],[2,0,2,1],[2,2,2,3],[2,4,2,5],[2,6,2,7],[10,0,10,1],[18,0,18,1],[26,0,26,1]]}
[]
["WYNIKI ANALIZY WIELOKRYTERIALNEJ"]
["SĄSIEDZI W1 I W2",null,"SĄSIEDZI W3 I W4",null,"POZOSTALI",null,"SPOŁECZEŃSTWO"]
["W1",{"$f":"'SPOŁ W1 i W2'!$C$25","v":50.82306639251248},"W1",{"$f":"'SPOŁ W3 i W4'!C$25","v":57.575586780272459},"W1",{"$f":"INNE!C$25","v":48.076107696813132},"W1",{"$f":"SPOŁECZEŃSTWO!C$25","v":49.824731120636834},"W1 PZPWM"]
["W2",{"$f":"'SPOŁ W1 i W2'!$D$25","v":74.123544928816855},"W2",{"$f":"'SPOŁ W3 i W4'!D$25","v":64.348158085602705},"W2",{"$f":"INNE!D$25","v":76.562461565110226},"W2",{"$f":"SPOŁECZEŃSTWO!D$25","v":69.93683938124029},"W2 WYKONAWCY"]
["W3",{"$f":"'SPOŁ W1 i W2'!$E$25","v":89.59075341908175},"W3",{"$f":"'SPOŁ W3 i W4'!E$25","v":60.34189165386389},"W3",{"$f":"INNE!E$25","v":95.255038620670064},"W3",{"$f":"SPOŁECZEŃSTWO!E$25","v":81.753452512927041},"W3 DK50 I A2"]
["W4",{"$f":"'SPOŁ W1 i W2'!$F$25","v":63.679024355158241},"W4",{"$f":"'SPOŁ W3 i W4'!F$25","v":39.898344743008082},"W4",{"$f":"INNE!F$25","v":65.728520724911064},"W4",{"$f":"SPOŁECZEŃSTWO!F$25","v":54.906098638632926},"W4 DK50 I 400 KV"]
["W5",{"$f":"'SPOŁ W1 i W2'!$G$25","v":11.184191545060104},"W5",{"$f":"'SPOŁ W3 i W4'!G$25","v":23.896998523455991},"W5",{"$f":"INNE!G$25","v":9.6697533981944481},"W5",{"$f":"SPOŁECZEŃSTWO!G$25","v":16.49878727493709},"W5 HISTORYCZNY"]
[]
["UPORZĄDKOWANIE WARIANTÓW "]
["SĄSIEDZI W1 I W2"]
["W1 PZPWM",{"$f":"B4","v":50.82306639251248}]
["W2 WYKONAWCY",{"$f":"B5","v":74.123544928816855}]
["W3 DK50 I A2",89.59075341908175]
["W4 DK50 I 400 KV",63.679024355158241]
["W5 HISTORYCZNY",11.184191545060104]
[]
[]
["SĄSIEDZI W3 I W4"]
["W1 PZPWM",{"$f":"D4","v":57.575586780272459}]
["W2 WYKONAWCY",{"$f":"D5","v":64.348158085602705}]
["W3 DK50 I A2",60.34189165386389]
["W4 DK50 I 400 KV",39.898344743008082]
["W5 HISTORYCZNY",23.896998523455991]
[]
[]
["POZOSTALI"]
["W1 PZPWM",{"$f":"F4","v":48.076107696813132}]
["W2 WYKONAWCY",{"$f":"F5","v":76.562461565110226}]
["W3 DK50 I A2",95.255038620670064]
["W4 DK50 I 400 KV",65.728520724911064]
["W5 HISTORYCZNY",9.6697533981944481]
[]
[]
["SPOŁECZEŃSTWO"]
["W1 PZPWM",{"$f":"H4","v":49.824731120636834}]
["W2 WYKONAWCY",{"$f":"H5","v":69.93683938124029}]
["W3 DK50 I A2",81.753452512927041]
["W4 DK50 I 400 KV",54.906098638632926]
["W5 HISTORYCZNY",16.49878727493709]